BEGIN:VCALENDAR
VERSION:2.0
PRODID:-//OLG St.Gallen/Appenzell - ECPv4.6.21//NONSGML v1.0//EN
CALSCALE:GREGORIAN
METHOD:PUBLISH
X-WR-CALNAME:OLG St.Gallen/Appenzell
X-ORIGINAL-URL:https://www.olgsga.ch
X-WR-CALDESC:Veranstaltungen für OLG St.Gallen/Appenzell
BEGIN:VEVENT
DTSTART;VALUE=DATE:20230715
DTEND;VALUE=DATE:20230717
DTSTAMP:20260422T040302
CREATED:20221223T165955Z
LAST-MODIFIED:20221223T165955Z
UID:33408-1689393600-1689479999@www.olgsga.ch
SUMMARY:Weltmeisterschaft: Mitteldistanz (Final)
DESCRIPTION:\n\n\nKarte/Ort:\nFlims Laax\n\n\nRegion:\nGL/GR\n\n\nDetails:\nhttps://woc2023.ch\n\n\n\n
URL:https://www.olgsga.ch/event/weltmeisterschaft-mitteldistanz-final/
CATEGORIES:diverse Anlässe
END:VEVENT
END:VCALENDAR