BEGIN:VCALENDAR
VERSION:2.0
PRODID:-//OLG St.Gallen/Appenzell - ECPv4.6.21//NONSGML v1.0//EN
CALSCALE:GREGORIAN
METHOD:PUBLISH
X-WR-CALNAME:OLG St.Gallen/Appenzell
X-ORIGINAL-URL:https://www.olgsga.ch
X-WR-CALDESC:Veranstaltungen für OLG St.Gallen/Appenzell
BEGIN:VEVENT
DTSTART;TZID=Europe/Zurich:20180316T170000
DTEND;TZID=Europe/Zurich:20180318T170000
DTSTAMP:20260425T134435
CREATED:20171203T093405Z
LAST-MODIFIED:20171203T190937Z
UID:12188-1521219600-1521392400@www.olgsga.ch
SUMMARY:Trainingsweekend OLG SGA
DESCRIPTION:Trainingsweekend OLG SGA in Beinwil am See\, u.a. mit der Teilnahme am 1. Nationalen OL vom 18.03.2018\, Karte Erlosen \nAusschreibung  \n
URL:https://www.olgsga.ch/event/trainingsweekend-olg-sga/
CATEGORIES:Nationale Saison,Vereinsanlässe
ORGANIZER;CN="OLG%20St.Gallen%2FAppenzell":MAILTO:info@olgsga.ch
END:VEVENT
END:VCALENDAR