BEGIN:VCALENDAR
VERSION:2.0
PRODID:-//OLG St.Gallen/Appenzell - ECPv4.6.21//NONSGML v1.0//EN
CALSCALE:GREGORIAN
METHOD:PUBLISH
X-WR-CALNAME:OLG St.Gallen/Appenzell
X-ORIGINAL-URL:https://www.olgsga.ch
X-WR-CALDESC:Veranstaltungen für OLG St.Gallen/Appenzell
BEGIN:VEVENT
DTSTART;VALUE=DATE:20210514
DTEND;VALUE=DATE:20210516
DTSTAMP:20260421T003933
CREATED:20201226T161228Z
LAST-MODIFIED:20210226T204500Z
UID:17892-1620964800-1621051199@www.olgsga.ch
SUMMARY:Swiss 5 Days E3 ABGESAGT
DESCRIPTION:\n\n\nKarte/Ort:\nTrois Bornes\, Neuchâtel\n\n\nRegion:\nSR\n\n\nDetails:\nhttps://o-l.ch/cgi-bin/fixtures?&mode=show&unique_id=10673\n\n\n\n
URL:https://www.olgsga.ch/event/swiss-5-days-e3/
CATEGORIES:Nationale Saison
END:VEVENT
END:VCALENDAR