BEGIN:VCALENDAR
VERSION:2.0
PRODID:-//OLG St.Gallen/Appenzell - ECPv4.6.21//NONSGML v1.0//EN
CALSCALE:GREGORIAN
METHOD:PUBLISH
X-WR-CALNAME:OLG St.Gallen/Appenzell
X-ORIGINAL-URL:https://www.olgsga.ch
X-WR-CALDESC:Veranstaltungen für OLG St.Gallen/Appenzell
BEGIN:VEVENT
DTSTART;VALUE=DATE:20210512
DTEND;VALUE=DATE:20210514
DTSTAMP:20260421T004209
CREATED:20201226T160924Z
LAST-MODIFIED:20210226T204509Z
UID:17887-1620792000-1620878399@www.olgsga.ch
SUMMARY:Swiss 5 Days E1 ABGESAGT
DESCRIPTION:\n\n\nKarte/Ort:\nPuits Godet\, Neuchâtel\n\n\nRegion:\nSR\n\n\nDetails:\nhttps://o-l.ch/cgi-bin/fixtures?&mode=show&unique_id=10669\n\n\n\n
URL:https://www.olgsga.ch/event/swiss-5-days-e1/
CATEGORIES:Nationale Saison
END:VEVENT
END:VCALENDAR