BEGIN:VCALENDAR
VERSION:2.0
PRODID:-//OLG St.Gallen/Appenzell - ECPv4.6.21//NONSGML v1.0//EN
CALSCALE:GREGORIAN
METHOD:PUBLISH
X-WR-CALNAME:OLG St.Gallen/Appenzell
X-ORIGINAL-URL:https://www.olgsga.ch
X-WR-CALDESC:Veranstaltungen für OLG St.Gallen/Appenzell
BEGIN:VEVENT
DTSTART;VALUE=DATE:20180415
DTEND;VALUE=DATE:20180416
DTSTAMP:20260425T121821
CREATED:20171203T100827Z
LAST-MODIFIED:20171203T100827Z
UID:12210-1523764800-1523764800@www.olgsga.ch
SUMMARY:Staffel-OL Schweizer Meisterschaft
DESCRIPTION:Schweizer Meisterschaft im Staffel OL\, Wannental \n
URL:https://www.olgsga.ch/event/staffel-ol-schweizer-meisterschaft/
CATEGORIES:Nationale Saison
END:VEVENT
END:VCALENDAR