BEGIN:VCALENDAR
VERSION:2.0
PRODID:-//OLG St.Gallen/Appenzell - ECPv4.6.21//NONSGML v1.0//EN
CALSCALE:GREGORIAN
METHOD:PUBLISH
X-WR-CALNAME:OLG St.Gallen/Appenzell
X-ORIGINAL-URL:https://www.olgsga.ch
X-WR-CALDESC:Veranstaltungen für OLG St.Gallen/Appenzell
BEGIN:VEVENT
DTSTART;VALUE=DATE:20200918
DTEND;VALUE=DATE:20200920
DTSTAMP:20260421T141022
CREATED:20191117T215806Z
LAST-MODIFIED:20200905T193638Z
UID:16143-1600401600-1600487999@www.olgsga.ch
SUMMARY:St. Galler sCOOL-Cup
DESCRIPTION:\n\n\nOrt:\nGossau SG\n\n\nDetails:\n\n\nAusschreibung\nWeisungen\n\n\n\n\nWeitere Informationen:\nWebsite sCOOL\n\n\n\n
URL:https://www.olgsga.ch/event/st-galler-scool-cup-4/
CATEGORIES:sCOOL / Schulen
ORGANIZER;CN="OLG%20St.Gallen%2FAppenzell":MAILTO:info@olgsga.ch
END:VEVENT
END:VCALENDAR