BEGIN:VCALENDAR
VERSION:2.0
PRODID:-//OLG St.Gallen/Appenzell - ECPv4.6.21//NONSGML v1.0//EN
CALSCALE:GREGORIAN
METHOD:PUBLISH
X-WR-CALNAME:OLG St.Gallen/Appenzell
X-ORIGINAL-URL:https://www.olgsga.ch
X-WR-CALDESC:Veranstaltungen für OLG St.Gallen/Appenzell
BEGIN:VEVENT
DTSTART;VALUE=DATE:20230514
DTEND;VALUE=DATE:20230516
DTSTAMP:20260421T225501
CREATED:20221223T165636Z
LAST-MODIFIED:20221223T165636Z
UID:33399-1684036800-1684123199@www.olgsga.ch
SUMMARY:Schweizermeisteschaft Sprint OL (SPM)
DESCRIPTION:\n\n\nKarte/Ort:\nLaufen\n\n\nRegion:\nNWS\n\n\nDetails:\nhttps://o-l.ch/cgi-bin/fixtures?&mode=show&unique_id=11464\n\n\n\n
URL:https://www.olgsga.ch/event/schweizermeisteschaft-sprint-ol-spm/
CATEGORIES:Nationale Saison
END:VEVENT
END:VCALENDAR