BEGIN:VCALENDAR
VERSION:2.0
PRODID:-//OLG St.Gallen/Appenzell - ECPv4.6.21//NONSGML v1.0//EN
CALSCALE:GREGORIAN
METHOD:PUBLISH
X-WR-CALNAME:OLG St.Gallen/Appenzell
X-ORIGINAL-URL:https://www.olgsga.ch
X-WR-CALDESC:Veranstaltungen für OLG St.Gallen/Appenzell
BEGIN:VEVENT
DTSTART;VALUE=DATE:20201101
DTEND;VALUE=DATE:20201103
DTSTAMP:20260421T110242
CREATED:20191117T213153Z
LAST-MODIFIED:20201028T072012Z
UID:16125-1604203200-1604289599@www.olgsga.ch
SUMMARY:Schweizermeisterschaft Team-OL (TOM) ABGESAGT
DESCRIPTION:\n\n\nKarte:\nAdlisberg\n\n\nOrt:\nZürich\n\n\nRegion:\nZH/SH\n\n\nDetails:\nhttps://o-l.ch/cgi-bin/fixtures?&mode=show&unique_id=9916\n\n\n\n
URL:https://www.olgsga.ch/event/schweizermeisterschaft-team-ol-tom/
CATEGORIES:Nationale Saison
END:VEVENT
END:VCALENDAR