BEGIN:VCALENDAR
VERSION:2.0
PRODID:-//OLG St.Gallen/Appenzell - ECPv4.6.21//NONSGML v1.0//EN
CALSCALE:GREGORIAN
METHOD:PUBLISH
X-WR-CALNAME:OLG St.Gallen/Appenzell
X-ORIGINAL-URL:https://www.olgsga.ch
X-WR-CALDESC:Veranstaltungen für OLG St.Gallen/Appenzell
BEGIN:VEVENT
DTSTART;VALUE=DATE:20230513
DTEND;VALUE=DATE:20230515
DTSTAMP:20260421T234441
CREATED:20221223T165605Z
LAST-MODIFIED:20221223T165605Z
UID:33397-1683950400-1684036799@www.olgsga.ch
SUMMARY:Schweizermeisterschaft Sprintstaffel OL (SSM)
DESCRIPTION:\n\n\nKarte/Ort:\nZwingen\n\n\nRegion:\nNWS\n\n\nDetails:\nhttps://o-l.ch/cgi-bin/fixtures?&mode=show&unique_id=11463\n\n\n\n
URL:https://www.olgsga.ch/event/schweizermeisterschaft-sprintstaffel-ol-ssm-2/
CATEGORIES:Nationale Saison
END:VEVENT
END:VCALENDAR