BEGIN:VCALENDAR
VERSION:2.0
PRODID:-//OLG St.Gallen/Appenzell - ECPv4.6.21//NONSGML v1.0//EN
CALSCALE:GREGORIAN
METHOD:PUBLISH
X-WR-CALNAME:OLG St.Gallen/Appenzell
X-ORIGINAL-URL:https://www.olgsga.ch
X-WR-CALDESC:Veranstaltungen für OLG St.Gallen/Appenzell
BEGIN:VEVENT
DTSTART;VALUE=DATE:20200906
DTEND;VALUE=DATE:20200908
DTSTAMP:20260421T141829
CREATED:20191117T212407Z
LAST-MODIFIED:20200829T083431Z
UID:16115-1599364800-1599451199@www.olgsga.ch
SUMMARY:Schweizermeisterschaft Sprint-OL (SPM)
DESCRIPTION:\n\n\nKarte:\nKreuzlingen\n\n\nOrt:\nKreuzlingen\n\n\nRegion:\nNOS\n\n\nDetails:\nhttps://o-l.ch/cgi-bin/fixtures?&mode=show&unique_id=9914\n\n\n\n
URL:https://www.olgsga.ch/event/schweizermeisterschaft-sprint-ol-spm/
CATEGORIES:Nationale Saison,Regionale Saison
END:VEVENT
END:VCALENDAR