BEGIN:VCALENDAR
VERSION:2.0
PRODID:-//OLG St.Gallen/Appenzell - ECPv4.6.21//NONSGML v1.0//EN
CALSCALE:GREGORIAN
METHOD:PUBLISH
X-WR-CALNAME:OLG St.Gallen/Appenzell
X-ORIGINAL-URL:https://www.olgsga.ch
X-WR-CALDESC:Veranstaltungen für OLG St.Gallen/Appenzell
BEGIN:VEVENT
DTSTART;VALUE=DATE:20230909
DTEND;VALUE=DATE:20230911
DTSTAMP:20260421T221830
CREATED:20221223T170732Z
LAST-MODIFIED:20221223T170732Z
UID:33425-1694232000-1694318399@www.olgsga.ch
SUMMARY:Schweizermeisterschaft Mitteldistanz OL (MOM)
DESCRIPTION:\n\n\nKarte/Ort:\nBallenberg\n\n\nRegion:\nBE/SO\n\n\nDetails:\nhttps://o-l.ch/cgi-bin/fixtures?&mode=show&unique_id=11466\n\n\n\n
URL:https://www.olgsga.ch/event/schweizermeisterschaft-mitteldistanz-ol-mom-3/
CATEGORIES:Nationale Saison
END:VEVENT
END:VCALENDAR