BEGIN:VCALENDAR
VERSION:2.0
PRODID:-//OLG St.Gallen/Appenzell - ECPv4.6.21//NONSGML v1.0//EN
CALSCALE:GREGORIAN
METHOD:PUBLISH
X-WR-CALNAME:OLG St.Gallen/Appenzell
X-ORIGINAL-URL:https://www.olgsga.ch
X-WR-CALDESC:Veranstaltungen für OLG St.Gallen/Appenzell
BEGIN:VEVENT
DTSTART;VALUE=DATE:20180826
DTEND;VALUE=DATE:20180828
DTSTAMP:20260425T134506
CREATED:20171203T101244Z
LAST-MODIFIED:20171203T101244Z
UID:12214-1535256000-1535342399@www.olgsga.ch
SUMMARY:Schweizer Meisterschaften Mitteldistanz OL
DESCRIPTION:Schweizer Meisterschaften im Mitteldistanz OL\, Brandhöchi \n
URL:https://www.olgsga.ch/event/schweizer-meisterschaften-mitteldistanz-ol/
CATEGORIES:Nationale Saison
END:VEVENT
END:VCALENDAR