BEGIN:VCALENDAR
VERSION:2.0
PRODID:-//OLG St.Gallen/Appenzell - ECPv4.6.21//NONSGML v1.0//EN
CALSCALE:GREGORIAN
METHOD:PUBLISH
X-WR-CALNAME:OLG St.Gallen/Appenzell
X-ORIGINAL-URL:https://www.olgsga.ch
X-WR-CALDESC:Veranstaltungen für OLG St.Gallen/Appenzell
BEGIN:VEVENT
DTSTART;TZID=Europe/Zurich:20180113T133000
DTEND;TZID=Europe/Zurich:20180113T170000
DTSTAMP:20260425T154739
CREATED:20171203T064058Z
LAST-MODIFIED:20171203T064058Z
UID:12152-1515850200-1515862800@www.olgsga.ch
SUMMARY:ROLV Verbandskurs
DESCRIPTION:ROLV Verbandskurs zum Thema Laufleitung \nAnmeldung bis 3. Januar 2018 an Ivo Benz\, siehe Ausschreibung \n
URL:https://www.olgsga.ch/event/rolv-verbandskurs-2/
CATEGORIES:diverse Anlässe
END:VEVENT
END:VCALENDAR