BEGIN:VCALENDAR
VERSION:2.0
PRODID:-//OLG St.Gallen/Appenzell - ECPv4.6.21//NONSGML v1.0//EN
CALSCALE:GREGORIAN
METHOD:PUBLISH
X-WR-CALNAME:OLG St.Gallen/Appenzell
X-ORIGINAL-URL:https://www.olgsga.ch
X-WR-CALDESC:Veranstaltungen für OLG St.Gallen/Appenzell
BEGIN:VEVENT
DTSTART;TZID=Europe/Zurich:20200819T184500
DTEND;TZID=Europe/Zurich:20200819T184500
DTSTAMP:20260421T172201
CREATED:20191117T215138Z
LAST-MODIFIED:20200705T194257Z
UID:16139-1597862700-1597862700@www.olgsga.ch
SUMMARY:ROLV-Staffel
DESCRIPTION:\n\n\nKarte:\nRheineck\, 1:4000\n\n\nForm:\nSprint-Staffel (4er-Staffel)\n\n\nMassenstart:\n18:45 Uhr\n\n\nWeitere Informationen:\nAusschreibung\n\n\n\n
URL:https://www.olgsga.ch/event/rolv-staffel-5/
LOCATION:Kugelwisstrasse 6\, Rheineck\, Schweiz
CATEGORIES:Regionale Saison,Training
ORGANIZER;CN="OLG%20St.Gallen%2FAppenzell":MAILTO:info@olgsga.ch
END:VEVENT
END:VCALENDAR