BEGIN:VCALENDAR
VERSION:2.0
PRODID:-//OLG St.Gallen/Appenzell - ECPv4.6.21//NONSGML v1.0//EN
CALSCALE:GREGORIAN
METHOD:PUBLISH
X-WR-CALNAME:OLG St.Gallen/Appenzell
X-ORIGINAL-URL:https://www.olgsga.ch
X-WR-CALDESC:Veranstaltungen für OLG St.Gallen/Appenzell
BEGIN:VEVENT
DTSTART;VALUE=DATE:20180218
DTEND;VALUE=DATE:20180220
DTSTAMP:20260425T191153
CREATED:20171202T184218Z
LAST-MODIFIED:20171202T184218Z
UID:12140-1518926400-1519012799@www.olgsga.ch
SUMMARY:Regiomila
DESCRIPTION:Weitere Informationen  findest du auf www.rolv-nos.ch. \n
URL:https://www.olgsga.ch/event/regiomila/
CATEGORIES:Training
END:VEVENT
END:VCALENDAR