BEGIN:VCALENDAR
VERSION:2.0
PRODID:-//OLG St.Gallen/Appenzell - ECPv4.6.21//NONSGML v1.0//EN
CALSCALE:GREGORIAN
METHOD:PUBLISH
X-WR-CALNAME:OLG St.Gallen/Appenzell
X-ORIGINAL-URL:https://www.olgsga.ch
X-WR-CALDESC:Veranstaltungen für OLG St.Gallen/Appenzell
BEGIN:VEVENT
DTSTART;VALUE=DATE:20230408
DTEND;VALUE=DATE:20230410
DTSTAMP:20260421T152836
CREATED:20230304T161136Z
LAST-MODIFIED:20230304T161237Z
UID:34802-1680926400-1681012799@www.olgsga.ch
SUMMARY:Osterhasen-OL Eugerswil
DESCRIPTION:\n\n\nWo:\nEugerswil auf dem Seerücken\n\n\nDetails:\nwww.osterhasen-ol.ch\n\n\n\n
URL:https://www.olgsga.ch/event/osterhasen-ol-eugerswil/
CATEGORIES:diverse Anlässe
END:VEVENT
END:VCALENDAR