BEGIN:VCALENDAR
VERSION:2.0
PRODID:-//OLG St.Gallen/Appenzell - ECPv4.6.21//NONSGML v1.0//EN
CALSCALE:GREGORIAN
METHOD:PUBLISH
X-WR-CALNAME:OLG St.Gallen/Appenzell
X-ORIGINAL-URL:https://www.olgsga.ch
X-WR-CALDESC:Veranstaltungen für OLG St.Gallen/Appenzell
BEGIN:VEVENT
DTSTART;TZID=Europe/Zurich:20171115T181500
DTEND;TZID=Europe/Zurich:20171115T201500
DTSTAMP:20260425T232251
CREATED:20170912T181949Z
LAST-MODIFIED:20170912T181949Z
UID:11880-1510769700-1510776900@www.olgsga.ch
SUMMARY:OLG Training
DESCRIPTION:\n\n\n18:15 – 18:45\n\nkurzes Lauftraining für alle\, die Lust haben\n\n\n18:50 – 20:15\nHallentraining: Kondition\, Kraft\, Koordination & OL-Formen\n\n\n\n  \n
URL:https://www.olgsga.ch/event/olg-training-83/
LOCATION:Gerhardtstrasse 10\, St. Gallen\, 9012\, Schweiz
CATEGORIES:Training
ORGANIZER;CN="OLG%20St.Gallen%2FAppenzell":MAILTO:info@olgsga.ch
END:VEVENT
END:VCALENDAR