BEGIN:VCALENDAR
VERSION:2.0
PRODID:-//OLG St.Gallen/Appenzell - ECPv4.6.21//NONSGML v1.0//EN
CALSCALE:GREGORIAN
METHOD:PUBLISH
X-WR-CALNAME:OLG St.Gallen/Appenzell
X-ORIGINAL-URL:https://www.olgsga.ch
X-WR-CALDESC:Veranstaltungen für OLG St.Gallen/Appenzell
BEGIN:VEVENT
DTSTART;TZID=Europe/Zurich:20260812T180000
DTEND;TZID=Europe/Zurich:20260812T190000
DTSTAMP:20260424T093255
CREATED:20260409T085409Z
LAST-MODIFIED:20260409T091725Z
UID:42066-1786557600-1786561200@www.olgsga.ch
SUMMARY:OLG-Training
DESCRIPTION:\n\n\nStartzeiten:\n \n18:00 – 19:00 Uhr\n\n\nKarte:\nHirschberg (Wald-OL)\n\n\nTreffpunkt:\nStarkenmühle\, Gais (Google Maps)\n\n\n\n
URL:https://www.olgsga.ch/event/olg-training-334/
CATEGORIES:Training
ORGANIZER;CN="OLG%20St.Gallen%2FAppenzell":MAILTO:info@olgsga.ch
END:VEVENT
END:VCALENDAR