BEGIN:VCALENDAR
VERSION:2.0
PRODID:-//OLG St.Gallen/Appenzell - ECPv4.6.21//NONSGML v1.0//EN
CALSCALE:GREGORIAN
METHOD:PUBLISH
X-WR-CALNAME:OLG St.Gallen/Appenzell
X-ORIGINAL-URL:https://www.olgsga.ch
X-WR-CALDESC:Veranstaltungen für OLG St.Gallen/Appenzell
BEGIN:VEVENT
DTSTART;TZID=Europe/Zurich:20230927T180000
DTEND;TZID=Europe/Zurich:20230927T190000
DTSTAMP:20260422T024735
CREATED:20230624T120944Z
LAST-MODIFIED:20230624T120954Z
UID:36932-1695837600-1695841200@www.olgsga.ch
SUMMARY:OLG-Training
DESCRIPTION:\n\n\nTrainingszeit:\n \n18:00 – 19:00 Uhr\n\n\nThema:\nAbschluss OL  inkl. anschliessendem Grillplausch\n\n\nKarte:\nSitterwald Ost\n\n\nTreffpunkt:\nAltes Schützenhaus Schwendistrasse Engelburg (https://goo.gl/maps/BF3NEDZUWvXMX21C9)\nParkplätze bei der alten Turnhalle in Engelburg\n\n\n\n
URL:https://www.olgsga.ch/event/olg-training-252/
CATEGORIES:Training
ORGANIZER;CN="OLG%20St.Gallen%2FAppenzell":MAILTO:info@olgsga.ch
END:VEVENT
END:VCALENDAR