BEGIN:VCALENDAR
VERSION:2.0
PRODID:-//OLG St.Gallen/Appenzell - ECPv4.6.21//NONSGML v1.0//EN
CALSCALE:GREGORIAN
METHOD:PUBLISH
X-WR-CALNAME:OLG St.Gallen/Appenzell
X-ORIGINAL-URL:https://www.olgsga.ch
X-WR-CALDESC:Veranstaltungen für OLG St.Gallen/Appenzell
BEGIN:VEVENT
DTSTART;TZID=Europe/Zurich:20230913T180000
DTEND;TZID=Europe/Zurich:20230913T190000
DTSTAMP:20260421T234033
CREATED:20230624T120538Z
LAST-MODIFIED:20230708T155549Z
UID:36930-1694628000-1694631600@www.olgsga.ch
SUMMARY:OLG-Training
DESCRIPTION:\n\n\nTrainingszeit:\n \n18:00 – 19:00 Uhr\n\n\nThema:\nWald OL: Routenwahl\n\n\nKarte:\nTannenberg\n\n\nTreffpunkt:\nWasserreservoir Achse Engelburg-Waldkirch (https://goo.gl/maps/HduUEbBXEK5oAsN97)\n\n\n\n
URL:https://www.olgsga.ch/event/olg-training-250/
CATEGORIES:Training
ORGANIZER;CN="OLG%20St.Gallen%2FAppenzell":MAILTO:info@olgsga.ch
END:VEVENT
END:VCALENDAR