BEGIN:VCALENDAR
VERSION:2.0
PRODID:-//OLG St.Gallen/Appenzell - ECPv4.6.21//NONSGML v1.0//EN
CALSCALE:GREGORIAN
METHOD:PUBLISH
X-WR-CALNAME:OLG St.Gallen/Appenzell
X-ORIGINAL-URL:https://www.olgsga.ch
X-WR-CALDESC:Veranstaltungen für OLG St.Gallen/Appenzell
BEGIN:VEVENT
DTSTART;TZID=Europe/Zurich:20230621T180000
DTEND;TZID=Europe/Zurich:20230621T190000
DTSTAMP:20260421T211105
CREATED:20230423T160953Z
LAST-MODIFIED:20230624T115825Z
UID:35861-1687370400-1687374000@www.olgsga.ch
SUMMARY:OLG-Training
DESCRIPTION:\n\n\nTrainingszeit:\n \n18:00 – 19:00 Uhr\n\n\nThema:\nAbschlusstraining mit Einsteigerkurs (anschliessend Grillen)\n\n\nKarte:\nSt. Georgen – 3 Weieren (Sprint)\n\n\nTreffpunkt:\nHebel Schulhaus St.Georgen (https://goo.gl/maps/tdxgczmJonxeio9aA)\n\n\n\n
URL:https://www.olgsga.ch/event/olg-training-246/
CATEGORIES:Training
ORGANIZER;CN="OLG%20St.Gallen%2FAppenzell":MAILTO:info@olgsga.ch
END:VEVENT
END:VCALENDAR