BEGIN:VCALENDAR
VERSION:2.0
PRODID:-//OLG St.Gallen/Appenzell - ECPv4.6.21//NONSGML v1.0//EN
CALSCALE:GREGORIAN
METHOD:PUBLISH
X-WR-CALNAME:OLG St.Gallen/Appenzell
X-ORIGINAL-URL:https://www.olgsga.ch
X-WR-CALDESC:Veranstaltungen für OLG St.Gallen/Appenzell
BEGIN:VEVENT
DTSTART;TZID=Europe/Zurich:20230503T180000
DTEND;TZID=Europe/Zurich:20230503T190000
DTSTAMP:20260421T152538
CREATED:20230423T155532Z
LAST-MODIFIED:20230423T160638Z
UID:35855-1683136800-1683140400@www.olgsga.ch
SUMMARY:OLG-Training
DESCRIPTION:\n\n\nTrainingszeit:\n \n18:00 – 19:00 Uhr\n\n\nThema:\nHöhenkurven\n\n\nKarte:\nEggen (West)\n\n\nTreffpunkt:\nTurnhalle Riethüsli (https://goo.gl/maps/J6Mj3db2ACTUeSsJ6)\n\n\n\n
URL:https://www.olgsga.ch/event/olg-training-241/
CATEGORIES:Training
ORGANIZER;CN="OLG%20St.Gallen%2FAppenzell":MAILTO:info@olgsga.ch
END:VEVENT
END:VCALENDAR