BEGIN:VCALENDAR
VERSION:2.0
PRODID:-//OLG St.Gallen/Appenzell - ECPv4.6.21//NONSGML v1.0//EN
CALSCALE:GREGORIAN
METHOD:PUBLISH
X-WR-CALNAME:OLG St.Gallen/Appenzell
X-ORIGINAL-URL:https://www.olgsga.ch
X-WR-CALDESC:Veranstaltungen für OLG St.Gallen/Appenzell
BEGIN:VEVENT
DTSTART;TZID=Europe/Zurich:20230308T181500
DTEND;TZID=Europe/Zurich:20230308T201500
DTSTAMP:20260421T133713
CREATED:20230306T174004Z
LAST-MODIFIED:20230306T174004Z
UID:34961-1678299300-1678306500@www.olgsga.ch
SUMMARY:OLG-Training
DESCRIPTION:\n\n\n18:15 – 18:45\n \nkurzes Lauftraining draussen für alle\, die Lust haben\n\n\n18:45 – 20:15\nHallentraining: Kraft\, Ausdauer\, OL-Formen in der Halle\n\n\n\n  \n
URL:https://www.olgsga.ch/event/olg-training-236/
LOCATION:Gerhardtstrasse 10\, St. Gallen\, 9012\, Schweiz
CATEGORIES:Training
ORGANIZER;CN="OLG%20St.Gallen%2FAppenzell":MAILTO:info@olgsga.ch
END:VEVENT
END:VCALENDAR