BEGIN:VCALENDAR
VERSION:2.0
PRODID:-//OLG St.Gallen/Appenzell - ECPv4.6.21//NONSGML v1.0//EN
CALSCALE:GREGORIAN
METHOD:PUBLISH
X-WR-CALNAME:OLG St.Gallen/Appenzell
X-ORIGINAL-URL:https://www.olgsga.ch
X-WR-CALDESC:Veranstaltungen für OLG St.Gallen/Appenzell
BEGIN:VEVENT
DTSTART;TZID=Europe/Zurich:20220105T183000
DTEND;TZID=Europe/Zurich:20220105T193000
DTSTAMP:20260421T083642
CREATED:20211016T085727Z
LAST-MODIFIED:20220103T171801Z
UID:23337-1641407400-1641411000@www.olgsga.ch
SUMMARY:OLG-Lauftraining
DESCRIPTION:\n\n\nTrainingszeit:\n18:30 – 19:30 Uhr\n\n\nBesammlung:\nTurnhalle Gerhardtstrasse\, St.Gallen-Riethüsli\n\n\nAnmeldung:\nAnmeldung OLG-Training\n\n\n\nCorona-Schutzmassnahmen:\n Aufgrund der aktuellen Regelungen und der epidemiologischen Lage findet anstelle des Hallentrainings bis auf weiteres ein Lauftraining statt. Im Aussenbereich dürfen wir ohne grössere Einschränkungen trainieren. Achtung: In den Garderoben gilt 2G und Maskenpflicht. \nBitte tragt euch hier für das Training ein: Anmeldung OLG-Training \n
URL:https://www.olgsga.ch/event/olg-training-197/
LOCATION:Gerhardtstrasse 10\, St. Gallen\, 9012\, Schweiz
CATEGORIES:Training
ORGANIZER;CN="OLG%20St.Gallen%2FAppenzell":MAILTO:info@olgsga.ch
END:VEVENT
END:VCALENDAR