BEGIN:VCALENDAR
VERSION:2.0
PRODID:-//OLG St.Gallen/Appenzell - ECPv4.6.21//NONSGML v1.0//EN
CALSCALE:GREGORIAN
METHOD:PUBLISH
X-WR-CALNAME:OLG St.Gallen/Appenzell
X-ORIGINAL-URL:https://www.olgsga.ch
X-WR-CALDESC:Veranstaltungen für OLG St.Gallen/Appenzell
BEGIN:VEVENT
DTSTART;TZID=Europe/Zurich:20211215T183000
DTEND;TZID=Europe/Zurich:20211215T193000
DTSTAMP:20260421T062737
CREATED:20211016T085717Z
LAST-MODIFIED:20211204T093225Z
UID:23336-1639593000-1639596600@www.olgsga.ch
SUMMARY:Weihnachts-OL
DESCRIPTION:\n\n\nThema:\nSprint OL\n\n\nStartzeiten:\n18:30 – 19:30\n\n\nKarte:\nStadt St. Gallen\n\n\nBesammlungsort:\nKlosterplatz St.Gallen\n\n\n\nCorona-Schutzmassnahmen:\nweitere Informationen folgen hier… \nBitte tragt euch hier für das Training ein: Anmeldung OLG-Training \n
URL:https://www.olgsga.ch/event/olg-training-196/
CATEGORIES:Training
ORGANIZER;CN="OLG%20St.Gallen%2FAppenzell":MAILTO:info@olgsga.ch
END:VEVENT
END:VCALENDAR