BEGIN:VCALENDAR
VERSION:2.0
PRODID:-//OLG St.Gallen/Appenzell - ECPv4.6.21//NONSGML v1.0//EN
CALSCALE:GREGORIAN
METHOD:PUBLISH
X-WR-CALNAME:OLG St.Gallen/Appenzell
X-ORIGINAL-URL:https://www.olgsga.ch
X-WR-CALDESC:Veranstaltungen für OLG St.Gallen/Appenzell
BEGIN:VEVENT
DTSTART;TZID=Europe/Zurich:20210609T180000
DTEND;TZID=Europe/Zurich:20210609T190000
DTSTAMP:20260421T003623
CREATED:20210426T165228Z
LAST-MODIFIED:20210607T173548Z
UID:19607-1623261600-1623265200@www.olgsga.ch
SUMMARY:OLG-Training
DESCRIPTION:\n\n\nTrainingszeit:\n \n18:00 – 19:00 Uhr\n\n\nTrainingsort:\nHohfirst\n\n\nTreffpunkt:\nKreuzung Schwendiweg und Schwendistrasse (Engelburg)\n\n\nTrainingsinhalt:\nWald OL\n\n\nAnmeldung:\nAufgrund der aktuellen Corona-Regelung sind für das Mittwochtraining maximal 50 Personen zugelassen.\n Bitte meldet euch hier an: Anmeldung!\n\n\n\n  \n
URL:https://www.olgsga.ch/event/olg-training-178/
CATEGORIES:Training
ORGANIZER;CN="OLG%20St.Gallen%2FAppenzell":MAILTO:info@olgsga.ch
END:VEVENT
END:VCALENDAR