BEGIN:VCALENDAR
VERSION:2.0
PRODID:-//OLG St.Gallen/Appenzell - ECPv4.6.21//NONSGML v1.0//EN
CALSCALE:GREGORIAN
METHOD:PUBLISH
X-WR-CALNAME:OLG St.Gallen/Appenzell
X-ORIGINAL-URL:https://www.olgsga.ch
X-WR-CALDESC:Veranstaltungen für OLG St.Gallen/Appenzell
BEGIN:VEVENT
DTSTART;TZID=Europe/Zurich:20210602T180000
DTEND;TZID=Europe/Zurich:20210602T190000
DTSTAMP:20260421T003623
CREATED:20210426T165131Z
LAST-MODIFIED:20210607T173544Z
UID:19605-1622656800-1622660400@www.olgsga.ch
SUMMARY:OLG-Training
DESCRIPTION:\n\n\nTrainingszeit:\n \n18:00 – 19:00 Uhr\n\n\nTrainingsort:\nTannenberg\n\n\nTreffpunkt:\nWasserreservoir Tannenberg\n\n\nTrainingsinhalt:\nWald OL\n\n\nAnmeldung:\nAufgrund der aktuellen Corona-Regelung sind für das Mittwochtraining maximal 50 Personen zugelassen.\n Bitte meldet euch hier an: Anmeldung!\n\n\n\n  \n
URL:https://www.olgsga.ch/event/olg-training-177/
CATEGORIES:Training
ORGANIZER;CN="OLG%20St.Gallen%2FAppenzell":MAILTO:info@olgsga.ch
END:VEVENT
END:VCALENDAR