BEGIN:VCALENDAR
VERSION:2.0
PRODID:-//OLG St.Gallen/Appenzell - ECPv4.6.21//NONSGML v1.0//EN
CALSCALE:GREGORIAN
METHOD:PUBLISH
X-WR-CALNAME:OLG St.Gallen/Appenzell
X-ORIGINAL-URL:https://www.olgsga.ch
X-WR-CALDESC:Veranstaltungen für OLG St.Gallen/Appenzell
BEGIN:VEVENT
DTSTART;TZID=Europe/Zurich:20201118T184500
DTEND;TZID=Europe/Zurich:20201118T200000
DTSTAMP:20260421T105631
CREATED:20200924T164333Z
LAST-MODIFIED:20201101T191817Z
UID:17459-1605725100-1605729600@www.olgsga.ch
SUMMARY:OLG-Hallentraining ABGESAGT
DESCRIPTION:\n\n\n18:45 – 20:00\nHallentraining: Kondition\, Kraft\, Koordination & OL-Formen\n\n\n\n
URL:https://www.olgsga.ch/event/olg-training-169/
LOCATION:Gerhardtstrasse 10\, St. Gallen\, 9012\, Schweiz
CATEGORIES:Training
ORGANIZER;CN="OLG%20St.Gallen%2FAppenzell":MAILTO:info@olgsga.ch
END:VEVENT
END:VCALENDAR