BEGIN:VCALENDAR
VERSION:2.0
PRODID:-//OLG St.Gallen/Appenzell - ECPv4.6.21//NONSGML v1.0//EN
CALSCALE:GREGORIAN
METHOD:PUBLISH
X-WR-CALNAME:OLG St.Gallen/Appenzell
X-ORIGINAL-URL:https://www.olgsga.ch
X-WR-CALDESC:Veranstaltungen für OLG St.Gallen/Appenzell
BEGIN:VEVENT
DTSTART;TZID=Europe/Zurich:20201111T184500
DTEND;TZID=Europe/Zurich:20201111T194500
DTSTAMP:20260421T105708
CREATED:20200924T164319Z
LAST-MODIFIED:20201101T191759Z
UID:17458-1605120300-1605123900@www.olgsga.ch
SUMMARY:OLG-Lauftraining ABGESAGT
DESCRIPTION:\n\n\n18:45 – 19:45\n \nLauftraining\n\n\n\n
URL:https://www.olgsga.ch/event/olg-training-168/
LOCATION:Gerhardtstrasse 10\, St. Gallen\, 9012\, Schweiz
CATEGORIES:Training
ORGANIZER;CN="OLG%20St.Gallen%2FAppenzell":MAILTO:info@olgsga.ch
END:VEVENT
END:VCALENDAR