BEGIN:VCALENDAR
VERSION:2.0
PRODID:-//OLG St.Gallen/Appenzell - ECPv4.6.21//NONSGML v1.0//EN
CALSCALE:GREGORIAN
METHOD:PUBLISH
X-WR-CALNAME:OLG St.Gallen/Appenzell
X-ORIGINAL-URL:https://www.olgsga.ch
X-WR-CALDESC:Veranstaltungen für OLG St.Gallen/Appenzell
BEGIN:VEVENT
DTSTART;TZID=Europe/Zurich:20200903T180000
DTEND;TZID=Europe/Zurich:20200903T183000
DTSTAMP:20260421T154311
CREATED:20200829T162824Z
LAST-MODIFIED:20200829T162824Z
UID:17188-1599156000-1599157800@www.olgsga.ch
SUMMARY:OLG-Training
DESCRIPTION:\n\n\nTraining:\nSprint-OL Training Rotmonten/HSG\n\n\nTreffpunkt:\nKinderfestwiese St.Gallen\n\n\nStartzeiten:\n18:00 – 18:30 Uhr\n\n\nAnmeldung:\nhttps://doodle.com/poll/854zkvvczn4zx97f\n\n\nNachwuchs:\nTrainingszeit: 18:00 – 19:15 Uhr\n Betreuer: Elias Bertsch\n\n\n\n Coronavirus-Schutzkonzept: \nAlle Trainingsteilnehmer/innen müssen zwingen die vom BAG geforderten Schutzmassnahmen einhalten. Zudem gelten die durch Swiss Orienteering festgelegten Massnahmen (Schutzkonzept). Dies betrifft insbesondere die folgenden Massnahmen: \n\n Symptomfrei ins Training\n Distanz halten (10 m2 Trainingsfläche pro Person\, wenn immer möglich 2 m Abstand) \n Einhaltung der Hygieneregeln des BAG \n Präsenzlisten (Rückverfolgung von engen Kontakten – Contact Tracing) \n Bezeichnung verantwortlicher Person\n\nWir werden an den Trainings eine Anwesenheitsliste führen\, um bei einer allfälligen Infektion entsprechen den Vorgaben des Bundes handeln zu können. Wir bitten Mitglieder/innen\, die über Krankheitssymptome verfügen\, auf gar keinen Fall am Training teilzunehmen. Seit euch bewusst\, was dies für Konsequenzen für die anderen Trainingsteilnehmer haben kann. An den Trainings werden wir auf die geforderten Abstands- und Hygieneregeln achten. Bei Unklarheiten zu den Massnahmen oder auch im Falle einer Infektion wendet euch bitte an den Corona-Beauftragten Patrick Zbinden.  \n \n \n \n \n \n \n \n
URL:https://www.olgsga.ch/event/olg-training-164/
CATEGORIES:Training
ORGANIZER;CN="OLG%20St.Gallen%2FAppenzell":MAILTO:info@olgsga.ch
END:VEVENT
END:VCALENDAR