BEGIN:VCALENDAR
VERSION:2.0
PRODID:-//OLG St.Gallen/Appenzell - ECPv4.6.21//NONSGML v1.0//EN
CALSCALE:GREGORIAN
METHOD:PUBLISH
X-WR-CALNAME:OLG St.Gallen/Appenzell
X-ORIGINAL-URL:https://www.olgsga.ch
X-WR-CALDESC:Veranstaltungen für OLG St.Gallen/Appenzell
BEGIN:VEVENT
DTSTART;TZID=Europe/Zurich:20200902T181500
DTEND;TZID=Europe/Zurich:20200902T191500
DTSTAMP:20260421T141358
CREATED:20200829T105314Z
LAST-MODIFIED:20200829T162913Z
UID:17182-1599070500-1599074100@www.olgsga.ch
SUMMARY:Lauftraining
DESCRIPTION:\n\n\nTraining:\nLauftraining\n\n\nTreffpunkt:\nRestaurant Militärkantine (Kreuzbleiche)\n\n\nStartzeiten:\n18:15 – 19:15 Uhr\n\n\n\n Coronavirus-Schutzkonzept: \nAlle Trainingsteilnehmer/innen müssen zwingen die vom BAG geforderten Schutzmassnahmen einhalten. Zudem gelten die durch Swiss Orienteering festgelegten Massnahmen (Schutzkonzept). Dies betrifft insbesondere die folgenden Massnahmen: \n\n Symptomfrei ins Training\n Distanz halten (10 m2 Trainingsfläche pro Person\, wenn immer möglich 2 m Abstand) \n Einhaltung der Hygieneregeln des BAG \n Präsenzlisten (Rückverfolgung von engen Kontakten – Contact Tracing) \n Bezeichnung verantwortlicher Person\n\nWir werden an den Trainings eine Anwesenheitsliste führen\, um bei einer allfälligen Infektion entsprechen den Vorgaben des Bundes handeln zu können. Wir bitten Mitglieder/innen\, die über Krankheitssymptome verfügen\, auf gar keinen Fall am Training teilzunehmen. Seit euch bewusst\, was dies für Konsequenzen für die anderen Trainingsteilnehmer haben kann. An den Trainings werden wir auf die geforderten Abstands- und Hygieneregeln achten. Bei Unklarheiten zu den Massnahmen oder auch im Falle einer Infektion wendet euch bitte an den Corona-Beauftragten Patrick Zbinden.  \n \n \n \n \n \n \n \n
URL:https://www.olgsga.ch/event/olg-training-162/
CATEGORIES:Training
ORGANIZER;CN="OLG%20St.Gallen%2FAppenzell":MAILTO:info@olgsga.ch
END:VEVENT
END:VCALENDAR