BEGIN:VCALENDAR
VERSION:2.0
PRODID:-//OLG St.Gallen/Appenzell - ECPv4.6.21//NONSGML v1.0//EN
CALSCALE:GREGORIAN
METHOD:PUBLISH
X-WR-CALNAME:OLG St.Gallen/Appenzell
X-ORIGINAL-URL:https://www.olgsga.ch
X-WR-CALDESC:Veranstaltungen für OLG St.Gallen/Appenzell
BEGIN:VEVENT
DTSTART;TZID=Europe/Zurich:20180912T180000
DTEND;TZID=Europe/Zurich:20180912T183000
DTSTAMP:20260425T134147
CREATED:20180603T071238Z
LAST-MODIFIED:20180603T071238Z
UID:13123-1536775200-1536777000@www.olgsga.ch
SUMMARY:OLG-Training
DESCRIPTION:\n\nTannenberg \nStartzeiten 18:00 – 18:30 Uhr \nKarten siehe zu gegebener Zeit hier \nReservoir Engelburg\, Strasse Engelburg – Waldkirch \n\n\n
URL:https://www.olgsga.ch/event/olg-training-109/
LOCATION:47.452133\, 9.333317
CATEGORIES:Training
END:VEVENT
END:VCALENDAR