BEGIN:VCALENDAR
VERSION:2.0
PRODID:-//OLG St.Gallen/Appenzell - ECPv4.6.21//NONSGML v1.0//EN
CALSCALE:GREGORIAN
METHOD:PUBLISH
X-WR-CALNAME:OLG St.Gallen/Appenzell
X-ORIGINAL-URL:https://www.olgsga.ch
X-WR-CALDESC:Veranstaltungen für OLG St.Gallen/Appenzell
BEGIN:VEVENT
DTSTART;TZID=Europe/Zurich:20180606T180000
DTEND;TZID=Europe/Zurich:20180606T183000
DTSTAMP:20260425T190510
CREATED:20180225T143033Z
LAST-MODIFIED:20180225T143033Z
UID:12465-1528308000-1528309800@www.olgsga.ch
SUMMARY:OLG-Training
DESCRIPTION:Rorschacherberg \nStartzeiten 18:00 – 18:30 Uhr \nKarten siehe zu gegebener Zeit hier \nParkplatz Verbindungsstrasse Rorschacherberg – Weihnacht-Tobel (Heidenerstrasse) \n
URL:https://www.olgsga.ch/event/olg-training-103/
LOCATION:Bergli\, Weihnacht-Tobel
CATEGORIES:Training
END:VEVENT
END:VCALENDAR