BEGIN:VCALENDAR
VERSION:2.0
PRODID:-//OLG St.Gallen/Appenzell - ECPv4.6.21//NONSGML v1.0//EN
CALSCALE:GREGORIAN
METHOD:PUBLISH
X-WR-CALNAME:OLG St.Gallen/Appenzell
X-ORIGINAL-URL:https://www.olgsga.ch
X-WR-CALDESC:Veranstaltungen für OLG St.Gallen/Appenzell
BEGIN:VEVENT
DTSTART;TZID=Europe/Zurich:20180516T180000
DTEND;TZID=Europe/Zurich:20180516T183000
DTSTAMP:20260425T154243
CREATED:20180225T142105Z
LAST-MODIFIED:20180225T142105Z
UID:12458-1526493600-1526495400@www.olgsga.ch
SUMMARY:OLG-Training
DESCRIPTION:Sitterwald \nStartzeiten 18:00 – 18:30 Uhr \nKarten siehe zu gegebener Zeit hier \n
URL:https://www.olgsga.ch/event/olg-training-101/
LOCATION:Kirchlistrasse 99\, St. Gallen
CATEGORIES:Training
END:VEVENT
END:VCALENDAR