BEGIN:VCALENDAR
VERSION:2.0
PRODID:-//OLG St.Gallen/Appenzell - ECPv4.6.21//NONSGML v1.0//EN
CALSCALE:GREGORIAN
METHOD:PUBLISH
X-WR-CALNAME:OLG St.Gallen/Appenzell
X-ORIGINAL-URL:https://www.olgsga.ch
X-WR-CALDESC:Veranstaltungen für OLG St.Gallen/Appenzell
BEGIN:VEVENT
DTSTART;TZID=Europe/Zurich:20180509T170000
DTEND;TZID=Europe/Zurich:20180513T170000
DTSTAMP:20260425T154805
CREATED:20171203T094334Z
LAST-MODIFIED:20171203T191255Z
UID:12194-1525885200-1526230800@www.olgsga.ch
SUMMARY:OLG SGA Auffahrtsweekend
DESCRIPTION:OLG SGA Auffahrtsweekend Tessin\, u.a. mit der Teilnahme an der Schweizer Meisterschaft im Sprint-OL (10.05.18) und am 5. und 6. Nationalen OL (12./13.05.18) \nAusschreibung  \n
URL:https://www.olgsga.ch/event/olg-sga-auffahrtsweekend/
CATEGORIES:Nationale Saison,Vereinsanlässe
ORGANIZER;CN="OLG%20St.Gallen%2FAppenzell":MAILTO:info@olgsga.ch
END:VEVENT
END:VCALENDAR