BEGIN:VCALENDAR
VERSION:2.0
PRODID:-//OLG St.Gallen/Appenzell - ECPv4.6.21//NONSGML v1.0//EN
CALSCALE:GREGORIAN
METHOD:PUBLISH
X-WR-CALNAME:OLG St.Gallen/Appenzell
X-ORIGINAL-URL:https://www.olgsga.ch
X-WR-CALDESC:Veranstaltungen für OLG St.Gallen/Appenzell
BEGIN:VEVENT
DTSTART;VALUE=DATE:20180331
DTEND;VALUE=DATE:20180401
DTSTAMP:20260425T154453
CREATED:20171203T093800Z
LAST-MODIFIED:20171203T093800Z
UID:12190-1522468800-1522468800@www.olgsga.ch
SUMMARY:OLG-Osterhasen OL
DESCRIPTION:OLG-Osterhasen OL in St. Gallen/St. Georgen \n
URL:https://www.olgsga.ch/event/olg-osterhasen-ol/
CATEGORIES:Vereinsanlässe
ORGANIZER;CN="OLG%20St.Gallen%2FAppenzell":MAILTO:info@olgsga.ch
END:VEVENT
END:VCALENDAR