BEGIN:VCALENDAR
VERSION:2.0
PRODID:-//OLG St.Gallen/Appenzell - ECPv4.6.21//NONSGML v1.0//EN
CALSCALE:GREGORIAN
METHOD:PUBLISH
X-WR-CALNAME:OLG St.Gallen/Appenzell
X-ORIGINAL-URL:https://www.olgsga.ch
X-WR-CALDESC:Veranstaltungen für OLG St.Gallen/Appenzell
BEGIN:VEVENT
DTSTART;VALUE=DATE:20230426
DTEND;VALUE=DATE:20230428
DTSTAMP:20260421T201059
CREATED:20221223T205238Z
LAST-MODIFIED:20230204T104656Z
UID:33472-1682481600-1682567999@www.olgsga.ch
SUMMARY:OL CHALLENGE St.Georgen
DESCRIPTION:\n\n\nEvent:\n1. Lauf der OL CHALLENGE St.Gallen – Appenzell 2023\n\n\nOrt:\n St.Georgen (St.Gallen)\n\n\nWebsite:\nhttps://olchallenge.ch\n\n\n\n \n
URL:https://www.olgsga.ch/event/ol-challenge-st-georgen/
CATEGORIES:OL CHALLENGE,Training
ORGANIZER;CN="OLG%20St.Gallen%2FAppenzell":MAILTO:info@olgsga.ch
END:VEVENT
END:VCALENDAR