BEGIN:VCALENDAR
VERSION:2.0
PRODID:-//OLG St.Gallen/Appenzell - ECPv4.6.21//NONSGML v1.0//EN
CALSCALE:GREGORIAN
METHOD:PUBLISH
X-WR-CALNAME:OLG St.Gallen/Appenzell
X-ORIGINAL-URL:https://www.olgsga.ch
X-WR-CALDESC:Veranstaltungen für OLG St.Gallen/Appenzell
BEGIN:VEVENT
DTSTART;VALUE=DATE:20230524
DTEND;VALUE=DATE:20230526
DTSTAMP:20260421T220048
CREATED:20221223T205509Z
LAST-MODIFIED:20230204T104728Z
UID:33475-1684900800-1684987199@www.olgsga.ch
SUMMARY:OL CHALLENGE Gais
DESCRIPTION:\n\n\nEvent:\n3. Lauf der OL CHALLENGE St.Gallen – Appenzell 2023\n\n\nOrt:\nGais AR\n\n\nWebsite:\nhttps://olchallenge.ch\n\n\n\n \n
URL:https://www.olgsga.ch/event/ol-challenge-gais/
CATEGORIES:OL CHALLENGE,Training
ORGANIZER;CN="OLG%20St.Gallen%2FAppenzell":MAILTO:info@olgsga.ch
END:VEVENT
END:VCALENDAR