BEGIN:VCALENDAR
VERSION:2.0
PRODID:-//OLG St.Gallen/Appenzell - ECPv4.6.21//NONSGML v1.0//EN
CALSCALE:GREGORIAN
METHOD:PUBLISH
X-WR-CALNAME:OLG St.Gallen/Appenzell
X-ORIGINAL-URL:https://www.olgsga.ch
X-WR-CALDESC:Veranstaltungen für OLG St.Gallen/Appenzell
BEGIN:VEVENT
DTSTART;VALUE=DATE:20230830
DTEND;VALUE=DATE:20230901
DTSTAMP:20260421T220048
CREATED:20221223T205630Z
LAST-MODIFIED:20230204T104732Z
UID:33476-1693368000-1693454399@www.olgsga.ch
SUMMARY:OL CHALLENGE Appenzell
DESCRIPTION:\n\n\nEvent:\n4. Lauf der OL CHALLENGE St.Gallen – Appenzell 2023\n\n\nOrt:\nAppenzell\n\n\nWebsite:\nhttps://olchallenge.ch\n\n\n\n \n
URL:https://www.olgsga.ch/event/ol-challenge-appenzell/
CATEGORIES:OL CHALLENGE,Training
ORGANIZER;CN="OLG%20St.Gallen%2FAppenzell":MAILTO:info@olgsga.ch
END:VEVENT
END:VCALENDAR