BEGIN:VCALENDAR
VERSION:2.0
PRODID:-//OLG St.Gallen/Appenzell - ECPv4.6.21//NONSGML v1.0//EN
CALSCALE:GREGORIAN
METHOD:PUBLISH
X-WR-CALNAME:OLG St.Gallen/Appenzell
X-ORIGINAL-URL:https://www.olgsga.ch
X-WR-CALDESC:Veranstaltungen für OLG St.Gallen/Appenzell
BEGIN:VEVENT
DTSTART;VALUE=DATE:20260612
DTEND;VALUE=DATE:20260614
DTSTAMP:20260424T132816
CREATED:20260206T190100Z
LAST-MODIFIED:20260206T190100Z
UID:41744-1781236800-1781323199@www.olgsga.ch
SUMMARY:Öpfel-Trophy: Weinfelden
DESCRIPTION:weitere Informationen: www.oepfel-trophy.ch \n
URL:https://www.olgsga.ch/event/oepfel-trophy-weinfelden-2/
CATEGORIES:diverse Anlässe
END:VEVENT
END:VCALENDAR