BEGIN:VCALENDAR
VERSION:2.0
PRODID:-//OLG St.Gallen/Appenzell - ECPv4.6.21//NONSGML v1.0//EN
CALSCALE:GREGORIAN
METHOD:PUBLISH
X-WR-CALNAME:OLG St.Gallen/Appenzell
X-ORIGINAL-URL:https://www.olgsga.ch
X-WR-CALDESC:Veranstaltungen für OLG St.Gallen/Appenzell
BEGIN:VEVENT
DTSTART;VALUE=DATE:20200904
DTEND;VALUE=DATE:20200906
DTSTAMP:20260421T141705
CREATED:20200129T132536Z
LAST-MODIFIED:20200829T082726Z
UID:16329-1599192000-1599278399@www.olgsga.ch
SUMMARY:Öpfel-Trophy: Wängi ABGESAGT
DESCRIPTION:weitere Informationen: www.oepfel-trophy.ch \n
URL:https://www.olgsga.ch/event/oepfel-trophy-waengi/
CATEGORIES:Regionale Saison
END:VEVENT
END:VCALENDAR