BEGIN:VCALENDAR
VERSION:2.0
PRODID:-//OLG St.Gallen/Appenzell - ECPv4.6.21//NONSGML v1.0//EN
CALSCALE:GREGORIAN
METHOD:PUBLISH
X-WR-CALNAME:OLG St.Gallen/Appenzell
X-ORIGINAL-URL:https://www.olgsga.ch
X-WR-CALDESC:Veranstaltungen für OLG St.Gallen/Appenzell
BEGIN:VEVENT
DTSTART;VALUE=DATE:20230825
DTEND;VALUE=DATE:20230827
DTSTAMP:20260421T232943
CREATED:20221223T210743Z
LAST-MODIFIED:20221223T210743Z
UID:33492-1692936000-1693022399@www.olgsga.ch
SUMMARY:Öpfel-Trophy: Tägerwilen
DESCRIPTION:weitere Informationen: www.oepfel-trophy.ch \n
URL:https://www.olgsga.ch/event/oepfel-trophy-taegerwilen-2/
CATEGORIES:Regionale Saison
END:VEVENT
END:VCALENDAR