BEGIN:VCALENDAR
VERSION:2.0
PRODID:-//OLG St.Gallen/Appenzell - ECPv4.6.21//NONSGML v1.0//EN
CALSCALE:GREGORIAN
METHOD:PUBLISH
X-WR-CALNAME:OLG St.Gallen/Appenzell
X-ORIGINAL-URL:https://www.olgsga.ch
X-WR-CALDESC:Veranstaltungen für OLG St.Gallen/Appenzell
BEGIN:VEVENT
DTSTART;VALUE=DATE:20180831
DTEND;VALUE=DATE:20180902
DTSTAMP:20260425T135559
CREATED:20171203T104011Z
LAST-MODIFIED:20171203T104011Z
UID:12239-1535688000-1535774399@www.olgsga.ch
SUMMARY:Öpfel-Trophy: Sulgen
DESCRIPTION:weitere Informationen: www.oepfel-trophy.ch \n
URL:https://www.olgsga.ch/event/oepfel-trophy-sulgen/
END:VEVENT
END:VCALENDAR