BEGIN:VCALENDAR
VERSION:2.0
PRODID:-//OLG St.Gallen/Appenzell - ECPv4.6.21//NONSGML v1.0//EN
CALSCALE:GREGORIAN
METHOD:PUBLISH
X-WR-CALNAME:OLG St.Gallen/Appenzell
X-ORIGINAL-URL:https://www.olgsga.ch
X-WR-CALDESC:Veranstaltungen für OLG St.Gallen/Appenzell
BEGIN:VEVENT
DTSTART;VALUE=DATE:20200918
DTEND;VALUE=DATE:20200920
DTSTAMP:20260421T155002
CREATED:20200129T131956Z
LAST-MODIFIED:20200829T082732Z
UID:16324-1600401600-1600487999@www.olgsga.ch
SUMMARY:Öpfel-Trophy: Steckborn ABGESAGT
DESCRIPTION:weitere Informationen: www.oepfel-trophy.ch \n
URL:https://www.olgsga.ch/event/oepfel-trophy-steckborn-3/
CATEGORIES:Regionale Saison
END:VEVENT
END:VCALENDAR