BEGIN:VCALENDAR
VERSION:2.0
PRODID:-//OLG St.Gallen/Appenzell - ECPv4.6.21//NONSGML v1.0//EN
CALSCALE:GREGORIAN
METHOD:PUBLISH
X-WR-CALNAME:OLG St.Gallen/Appenzell
X-ORIGINAL-URL:https://www.olgsga.ch
X-WR-CALDESC:Veranstaltungen für OLG St.Gallen/Appenzell
BEGIN:VEVENT
DTSTART;VALUE=DATE:20200605
DTEND;VALUE=DATE:20200607
DTSTAMP:20260421T161021
CREATED:20200129T132607Z
LAST-MODIFIED:20200427T113115Z
UID:16330-1591329600-1591415999@www.olgsga.ch
SUMMARY:Öpfel-Trophy: Hörhausen ABGESAGT
DESCRIPTION:weitere Informationen: www.oepfel-trophy.ch \n
URL:https://www.olgsga.ch/event/oepfel-trophy-hoerhausen/
CATEGORIES:Regionale Saison
END:VEVENT
END:VCALENDAR