BEGIN:VCALENDAR
VERSION:2.0
PRODID:-//OLG St.Gallen/Appenzell - ECPv4.6.21//NONSGML v1.0//EN
CALSCALE:GREGORIAN
METHOD:PUBLISH
X-WR-CALNAME:OLG St.Gallen/Appenzell
X-ORIGINAL-URL:https://www.olgsga.ch
X-WR-CALDESC:Veranstaltungen für OLG St.Gallen/Appenzell
BEGIN:VEVENT
DTSTART;VALUE=DATE:20200501
DTEND;VALUE=DATE:20200503
DTSTAMP:20260421T161020
CREATED:20200129T132441Z
LAST-MODIFIED:20200406T181826Z
UID:16327-1588305600-1588391999@www.olgsga.ch
SUMMARY:Öpfel-Trophy: Ettenhausen ABGESAGT
DESCRIPTION:weitere Informationen: www.oepfel-trophy.ch \n
URL:https://www.olgsga.ch/event/oepfel-trophy-ettenhausen/
CATEGORIES:Regionale Saison
END:VEVENT
END:VCALENDAR