BEGIN:VCALENDAR
VERSION:2.0
PRODID:-//OLG St.Gallen/Appenzell - ECPv4.6.21//NONSGML v1.0//EN
CALSCALE:GREGORIAN
METHOD:PUBLISH
X-WR-CALNAME:OLG St.Gallen/Appenzell
X-ORIGINAL-URL:https://www.olgsga.ch
X-WR-CALDESC:Veranstaltungen für OLG St.Gallen/Appenzell
BEGIN:VEVENT
DTSTART;VALUE=DATE:20230901
DTEND;VALUE=DATE:20230903
DTSTAMP:20260421T221155
CREATED:20221223T210806Z
LAST-MODIFIED:20221223T210806Z
UID:33493-1693540800-1693627199@www.olgsga.ch
SUMMARY:Öpfel-Trophy: Ettenhausen
DESCRIPTION:weitere Informationen: www.oepfel-trophy.ch \n
URL:https://www.olgsga.ch/event/oepfel-trophy-ettenhausen-2/
CATEGORIES:Regionale Saison
END:VEVENT
END:VCALENDAR