BEGIN:VCALENDAR
VERSION:2.0
PRODID:-//OLG St.Gallen/Appenzell - ECPv4.6.21//NONSGML v1.0//EN
CALSCALE:GREGORIAN
METHOD:PUBLISH
X-WR-CALNAME:OLG St.Gallen/Appenzell
X-ORIGINAL-URL:https://www.olgsga.ch
X-WR-CALDESC:Veranstaltungen für OLG St.Gallen/Appenzell
BEGIN:VEVENT
DTSTART;VALUE=DATE:20200424
DTEND;VALUE=DATE:20200426
DTSTAMP:20260421T172833
CREATED:20200129T132410Z
LAST-MODIFIED:20200315T210636Z
UID:16326-1587700800-1587787199@www.olgsga.ch
SUMMARY:Öpfel-Trophy: Altnau ABGESAGT
DESCRIPTION:weitere Informationen: www.oepfel-trophy.ch \n
URL:https://www.olgsga.ch/event/oepfel-trophy-altnau-2/
CATEGORIES:Regionale Saison
END:VEVENT
END:VCALENDAR