BEGIN:VCALENDAR
VERSION:2.0
PRODID:-//OLG St.Gallen/Appenzell - ECPv4.6.21//NONSGML v1.0//EN
CALSCALE:GREGORIAN
METHOD:PUBLISH
X-WR-CALNAME:OLG St.Gallen/Appenzell
X-ORIGINAL-URL:https://www.olgsga.ch
X-WR-CALDESC:Veranstaltungen für OLG St.Gallen/Appenzell
BEGIN:VEVENT
DTSTART;TZID=Europe/Zurich:20180314T190000
DTEND;TZID=Europe/Zurich:20180314T193000
DTSTAMP:20260425T135214
CREATED:20171202T185500Z
LAST-MODIFIED:20180303T073412Z
UID:12150-1521054000-1521055800@www.olgsga.ch
SUMMARY:NOSOL-Training
DESCRIPTION:\n\n\nThema:\nNacht-OL\n\n\nKarte (Stand):\nSitterwald-Süd (2013)\n\n\nBahnlegung:\n\nBenjamin Müller\, OL Regio Wil\n\n\n\nBesammlungsort:\n\nEnde Gatterstrasse (beim Tennisclub\nRotmonten)\, St. Gallen\n\n\n\n\nBitte meldet euch zwecks Kartendruck bis 3 Tage vor dem Training (20.00 Uhr) auf  diesem Link an. Trainingsteilnahme ohne Anmeldung ist zwar auch möglich\, aber wir sind froh um eine ungefähre Zahl an Trainingsteilnehmern. Weitere Informationen  findest du auf www.rolv-nos.ch.  Die Anfahrtswege sind nicht markiert. Den genauen Besammlungsort findest du hier. \n
URL:https://www.olgsga.ch/event/nosol-training-44/
CATEGORIES:Training
END:VEVENT
END:VCALENDAR