BEGIN:VCALENDAR
VERSION:2.0
PRODID:-//OLG St.Gallen/Appenzell - ECPv4.6.21//NONSGML v1.0//EN
CALSCALE:GREGORIAN
METHOD:PUBLISH
X-WR-CALNAME:OLG St.Gallen/Appenzell
X-ORIGINAL-URL:https://www.olgsga.ch
X-WR-CALDESC:Veranstaltungen für OLG St.Gallen/Appenzell
BEGIN:VEVENT
DTSTART;TZID=Europe/Zurich:20180324T170000
DTEND;TZID=Europe/Zurich:20180324T220000
DTSTAMP:20260425T135432
CREATED:20171203T100115Z
LAST-MODIFIED:20171203T100115Z
UID:12202-1521910800-1521928800@www.olgsga.ch
SUMMARY:Nacht-OL Schweizer Meisterschaft
DESCRIPTION:Schweizer Meisterschaft im Nacht-OL\, Gelterkinderberg \n
URL:https://www.olgsga.ch/event/nacht-ol-schweizer-meisterschaft/
CATEGORIES:Nationale Saison
END:VEVENT
END:VCALENDAR